BEGIN:VCALENDAR
VERSION:2.0
PRODID:-//ChamberMaster//Event Calendar 2.0//EN
METHOD:PUBLISH
X-PUBLISHED-TTL:P3D
REFRESH-INTERVAL:P3D
CALSCALE:GREGORIAN
BEGIN:VEVENT
DTSTART:20170713T233000Z
DTEND:20170714T010000Z
X-MICROSOFT-CDO-ALLDAYEVENT:FALSE
SUMMARY:The Cooking Mom
DESCRIPTION:You've seen her on the Dr. Oz Show\, WGN and Fox 6 Wakeup-now meet her in person as we enjoy an Evening with The Cooking Mom! Cookbook author\, TV show host and blogger Amy Hanten will share secrets\, tips\, and recipes to get your family back to the table. She'll also be selling and autographing cookbooks. This program is free\, but registration is required...please call us at (262) 723-2678 to register.\n\nAs part of the Adult Summer Reading Program\, all attendees will receive an entry into our end-of-summer grand prize drawing!
X-ALT-DESC;FMTTYPE=text/html:<p>You&rsquo\;ve seen her on the Dr. Oz Show\, WGN and Fox 6 Wakeup-now meet her in person as we enjoy an Evening with The Cooking Mom! Cookbook author\, TV show host and blogger Amy Hanten will share secrets\, tips\, and recipes to get your family back to the table. She&rsquo\;ll also be selling and autographing cookbooks. This program is free\, but registration is required...please call us at (262) 723-2678 to register.</p>\n\n<p>As part of the Adult Summer Reading Program\, all attendees will receive an entry into our end-of-summer grand prize drawing!</p>\n
LOCATION:101 N. Wisconsin St Elkhorn\, WI
UID:e.2059.5218
SEQUENCE:3
DTSTAMP:20260423T010903Z
URL:https://business.elkhornchamber.com/events/details/the-cooking-mom-5218
END:VEVENT

END:VCALENDAR
