BEGIN:VCALENDAR
VERSION:2.0
PRODID:-//ChamberMaster//Event Calendar 2.0//EN
METHOD:PUBLISH
X-PUBLISHED-TTL:P3D
REFRESH-INTERVAL:P3D
CALSCALE:GREGORIAN
BEGIN:VEVENT
DTSTART:20190314T003000Z
DTEND:20190314T043000Z
X-MICROSOFT-CDO-ALLDAYEVENT:FALSE
SUMMARY:The Comedy of Errors - American Shakespeare Center
DESCRIPTION:In this rollicking farce\, Shakespeare elevates Roman comedy to dizzying heights. Two long-separated twins\, their two tricky servants (also twins)\, a jealous wife\, and her lovelorn sister romp through this fast-paced comedy. Filled with mistaken identities and slapstick humor\, The Comedy of Errors will have audiences laughing from the first confusion to the last. Prepare for a level of audience contact rarely seen in modern day theatre as the American Shakespeare Center breathes new life into the Bard's finest works!
X-ALT-DESC;FMTTYPE=text/html:<span style="color: rgb(102\, 102\, 102)\; font-family: &quot\;PT Sans&quot\;\, sans-serif\; font-size: 16px\;">In this rollicking farce\, Shakespeare elevates Roman comedy to dizzying heights. Two long-separated twins\, their two tricky servants (also twins)\, a jealous wife\, and her lovelorn sister romp through this fast-paced comedy. Filled with mistaken identities and slapstick humor\, The Comedy of Errors will have audiences laughing from the first confusion to the last. Prepare for a level of audience contact rarely seen in modern day theatre as the American Shakespeare Center breathes new life into the Bard&#39\;s finest works!</span>
LOCATION:Young Auditorium 930 W. Main Street Whitewater\, WI 53190
UID:e.2059.10196
SEQUENCE:3
DTSTAMP:20260421T171621Z
URL:https://business.elkhornchamber.com/events/details/the-comedy-of-errors-american-shakespeare-center-10196
END:VEVENT

END:VCALENDAR
