BEGIN:VCALENDAR
VERSION:2.0
PRODID:-//ChamberMaster//Event Calendar 2.0//EN
METHOD:PUBLISH
X-PUBLISHED-TTL:P3D
REFRESH-INTERVAL:P3D
CALSCALE:GREGORIAN
BEGIN:VEVENT
DTSTART:20151129T170000Z
DTEND:20151129T220000Z
X-MICROSOFT-CDO-ALLDAYEVENT:FALSE
SUMMARY:The Christmas Barn~ An Experience Worth Waiting For
DESCRIPTION:A charming holiday atmosphere featuring antiques\, gifts and eclectic group of Artisans showcasing their creativity. The Christmas Barn is opening its doors from November 6th through December 20th. Make sure to stop in and take in the whole Christmas experience.
X-ALT-DESC;FMTTYPE=text/html:A charming holiday atmosphere featuring antiques\, gifts and eclectic group of Artisans showcasing their creativity. The Christmas Barn is opening its doors from November 6th through December 20th. Make sure to stop in and take in the whole Christmas experience.
LOCATION:In the Heart of Walworth County centrally located between Elkhorn\, Delavan and Lake Geneva. Formerly Moose Creek Bar & Grill. N4403 County Rd H Elkhorn\, WI
UID:e.2059.1798
SEQUENCE:3
DTSTAMP:20260424T124247Z
URL:https://business.elkhornchamber.com/events/details/the-christmas-barn-an-experience-worth-waiting-for-11-29-2015-1798
END:VEVENT

END:VCALENDAR
