BEGIN:VCALENDAR
VERSION:2.0
PRODID:-//ChamberMaster//Event Calendar 2.0//EN
METHOD:PUBLISH
X-PUBLISHED-TTL:P3D
REFRESH-INTERVAL:P3D
CALSCALE:GREGORIAN
BEGIN:VEVENT
DTSTART:20151113T160000Z
DTEND:20151114T230000Z
X-MICROSOFT-CDO-ALLDAYEVENT:FALSE
SUMMARY:The Christmas Barn~ An Experience Worth Waiting For
DESCRIPTION:A charming Holiday atmosphere featuring antiques\, gifts and eclectic group of Artisans showcasing their creativity.  The Christmas Barn is opening their doors November 6th going through December 20th. Like them on Facebook www.ChristmasBarnLakeGeneva.com
X-ALT-DESC;FMTTYPE=text/html:A charming Holiday atmosphere featuring antiques\, gifts and eclectic group of Artisans showcasing their creativity.&nbsp\; The Christmas Barn is opening their doors November 6th going through December 20th. Like them on Facebook www.ChristmasBarnLakeGeneva.com
LOCATION:In the Heart of Walworth Co. centrally located between Elkhorn\, Delavan and Lake Geneva. Formerly Moose Creek Bar & Grill. N4403 County Road H Elkhorn\, WI
UID:e.2059.1789
SEQUENCE:3
DTSTAMP:20260424T112644Z
URL:https://business.elkhornchamber.com/events/details/the-christmas-barn-an-experience-worth-waiting-for-11-13-2015-1789
END:VEVENT

END:VCALENDAR
