BEGIN:VCALENDAR
VERSION:2.0
PRODID:-//ChamberMaster//Event Calendar 2.0//EN
METHOD:PUBLISH
X-PUBLISHED-TTL:P3D
REFRESH-INTERVAL:P3D
CALSCALE:GREGORIAN
BEGIN:VEVENT
DTSTART;VALUE=DATE:20181201
DTEND;VALUE=DATE:20181202
TRANSP:TRANSPARENT
X-MICROSOFT-CDO-ALLDAYEVENT:TRUE
SUMMARY:The Christmas Barn
DESCRIPTION:The Christmas Barn will be held form November 2nd to December 16th
X-ALT-DESC;FMTTYPE=text/html:The Christmas Barn will be held form November 2nd to December 16th
LOCATION:Held at Heartwood N4403 County Rd H Elkhorn\, WI 53121
UID:e.2059.8673
SEQUENCE:3
DTSTAMP:20260421T222558Z
URL:https://business.elkhornchamber.com/events/details/the-christmas-barn-12-01-2018-8673
END:VEVENT

END:VCALENDAR
