BEGIN:VCALENDAR
VERSION:2.0
PRODID:-//ChamberMaster//Event Calendar 2.0//EN
METHOD:PUBLISH
X-PUBLISHED-TTL:P3D
REFRESH-INTERVAL:P3D
CALSCALE:GREGORIAN
BEGIN:VEVENT
DTSTART:20161118T160000Z
DTEND:20161118T230000Z
X-MICROSOFT-CDO-ALLDAYEVENT:FALSE
SUMMARY:The Christmas Barn 10th Anniversary
DESCRIPTION:The Christmas Barn celebrates their 10th Anniversary!\n\nA charming Holiday atmosphere featuring antiques\, gifts and an eclectic group of Artisans showcasing their creativity.
X-ALT-DESC;FMTTYPE=text/html:The Christmas Barn celebrates their 10th Anniversary!<br />\nA charming Holiday atmosphere featuring antiques\, gifts and an eclectic group of Artisans showcasing their creativity.
LOCATION:In the heart of Walworth County N4403 County Road H Elkhorn\, WI 53121
UID:e.2059.4598
SEQUENCE:3
DTSTAMP:20260423T154003Z
URL:https://business.elkhornchamber.com/events/details/the-christmas-barn-10th-anniversary-11-18-2016-4598
END:VEVENT

END:VCALENDAR
