BEGIN:VCALENDAR
VERSION:2.0
PRODID:-//ChamberMaster//Event Calendar 2.0//EN
METHOD:PUBLISH
X-PUBLISHED-TTL:P3D
REFRESH-INTERVAL:P3D
CALSCALE:GREGORIAN
BEGIN:VEVENT
DTSTART:20170709T130000Z
DTEND:20170709T200000Z
X-MICROSOFT-CDO-ALLDAYEVENT:FALSE
SUMMARY:The Cars Time Forgot Car Show at Lake Lawn Resort
DESCRIPTION:Rev your engines for the 14th Annual Delavan  Delavan Lake Area Chamber of Commerce The Cars Time Forgot Car Show on Sunday\, July 9\, 2017 at Lake Lawn Resort.\n\n\n\nOverlooking beautiful Delavan Lake\, our iconic lawn will host over 1\,000 custom cars\, trucks\, motorcycles and vehicles of special interest from all across the country. An estimated 10\,000 attendees and spectators will admire vehicles from decades past. Enjoy a full day of live announcements\, awards and music.\n\n\n\n______________________________________________________\n\nWe would like to remind our attendees that spectator parking is at the Lake Lawn Airport with the entrance off of Mound Road. In an effort to speed up your travel time to the Car Show we are s...uggesting the following routes.\n\n\n\nIf you are traveling from:\n\n\n\nNorthwest (Delavan/Janesville area) take State Highway 11 then east on Mound road.\n\n\n\nEast (Lake Geneva) take State Highway 50 to State Highway 67 north then west on Mound Road.\n\n\n\nSouth (Williams Bay/Fontana) take State Highway 67 north then west on Mound Road\n\n\n\nSouthwest (Beloit\, Clinton) take Interstate 43 north to Exit 25\, take State Highway 67 south then west on Mound Road.\n\n\n\n**We suggest staying off State Highway 50 due when possible due to road construction.\n\n______________________________________________________\n\n\n\n**Please contact the Delavan-Delavan Lakes Chamber of Commerce at 800-624-0052 to register your car\, or to be a vendor with car-related merchandise.\n\n\n\nExperience a car show unlike any other by booking Lake Lawn Resort's Cars Time Forgot Car Show Package. https://www.lakelawnresort.com/packages/cars-time-forgot-car-show-package/\n\n\n\nThe Cars Time Forgot Car Show Package is starting at $449\, and includes accommodations for two nights in our Lakewood Coastal Lodge.\n\n\n\nPackage details:\n\n\n\nAvailable for arrivals between Friday\, July 7 and Sunday\, July 9.\n\nBased on availability\n\nComplimentary activities on Saturday\, July 8\, including a guided road tour and Gimmick Rally\n\nAdmission to the Lakeside Pre-show Warm-up BBQ for 2\n\nRegistration for one show car for Sunday's Cars Time Forgot Car Show with preferred parking\n\nCannot be combined with any other offer or promotion\n\nPricing is based on the number of persons on the package\n\nListed price is based on two adults in a Lakewood Queen room\n\nRooms are going quickly\, so Click Here Now to Book Early!\n\nhttps://www.lakelawnresort.com/packages/cars-time-forgot-car-show-package/\n\n\n\nFor more information and highlights and photos from 2016\, go to www.CarsTimeForgot.com
X-ALT-DESC;FMTTYPE=text/html:<div class="text_exposed_root text_exposed" id="id_595afbcd5ad1e6518778479"><span class="_4n-j _fbReactionComponent__eventDetailsContentTags fsl" data-testid="event-permalink-details">Rev your engines for the 14th Annual Delavan &ndash\;Delavan Lake Area Chamber of Commerce The Cars Time Forgot Car Show on Sunday\, July 9\, 2017 at Lake Lawn Resort.<br />\n<br />\nOverlooking beautiful Delavan Lake\, our iconic lawn will host over 1\,000 custom cars\, trucks\, motorcycles and vehicles of special interest from all across the country. An estimated 10\,000 attendees and spectators will admire vehicles from decades past. Enjoy a full day of live announcements\, awards and music.<br />\n<br />\n<span>__________________________</span><wbr /><span>__________________________</span><wbr />__<br />\nWe would like to remind our attendees that spectator parking is at the Lake Lawn Airport with the entrance off of Mound Road. In an effort to speed up your travel time to the Car Show we are s<span class="text_exposed_hide">...</span><span class="text_exposed_show">uggesting the following routes.<br />\n<br />\nIf you are traveling from:<br />\n<br />\nNorthwest (Delavan/Janesville area) take State Highway 11 then east on Mound road.<br />\n<br />\nEast (Lake Geneva) take State Highway 50 to State Highway 67 north then west on Mound Road.<br />\n<br />\nSouth (Williams Bay/Fontana) take State Highway 67 north then west on Mound Road<br />\n<br />\nSouthwest (Beloit\, Clinton) take Interstate 43 north to Exit 25\, take State Highway 67 south then west on Mound Road.<br />\n<br />\n**We suggest staying off State Highway 50 due when possible due to road construction.<br />\n<span>__________________________</span><wbr /><span>__________________________</span><wbr />__<br />\n<br />\n**Please contact the Delavan-Delavan Lakes Chamber of Commerce at 800-624-0052 to register your car\, or to be a vendor with car-related merchandise.<br />\n<br />\nExperience a car show unlike any other by booking Lake Lawn Resort&rsquo\;s Cars Time Forgot Car Show Package. <a href="https://www.lakelawnresort.com/packages/cars-time-forgot-car-show-package/" rel="nofollow nofollow" target="_blank"><font color="#0066cc"><span>https://</span><wbr /><span>www.lakelawnresort.com/</span><wbr /><span>packages/</span><wbr /><span>cars-time-forgot-car-show-p</span><wbr /></font><font color="#0066cc">ackage/</font></a><br />\n<br />\nThe Cars Time Forgot Car Show Package is starting at $449\, and includes accommodations for two nights in our Lakewood Coastal Lodge.<br />\n<br />\nPackage details:<br />\n<br />\nAvailable for arrivals between Friday\, July 7 and Sunday\, July 9.<br />\nBased on availability<br />\nComplimentary activities on Saturday\, July 8\, including a guided road tour and Gimmick Rally<br />\nAdmission to the Lakeside Pre-show Warm-up BBQ for 2<br />\nRegistration for one show car for Sunday&rsquo\;s Cars Time Forgot Car Show with preferred parking<br />\nCannot be combined with any other offer or promotion<br />\nPricing is based on the number of persons on the package<br />\nListed price is based on two adults in a Lakewood Queen room<br />\nRooms are going quickly\, so Click Here Now to Book Early!<br />\n<a href="https://l.facebook.com/l.php?u=https%3A%2F%2Fwww.lakelawnresort.com%2Fpackages%2Fcars-time-forgot-car-show-package%2F&amp\;h=ATMExauzyaHOYtN3Zmo9QV8uGRPzf44ZB8ncgB6GeaSNKKkWc6mU7yD5jcNuRQKOCkAXyCvvMGHBBpXrF0VJCEar3SWtQaE3RCj59WnKkpSLTu5V2SaBNvjsrkU0DY0EDfGhMxre&amp\;enc=AZNToeCEAnsOe4_G0vMYRrCv5Idy73YIklNWWPV9vnPTfV3WkF7NMl0dkqmS-azVSbY&amp\;s=1" rel="nofollow nofollow" target="_blank"><font color="#0066cc"><span>https://</span><wbr /><span>www.lakelawnresort.com/</span><wbr /><span>packages/</span><wbr /><span>cars-time-forgot-car-show-p</span><wbr /></font><font color="#0066cc">ackage/</font></a><br />\n<br />\nFor more information and highlights and photos from 2016\, go to <a href="http://www.carstimeforgot.com/" rel="nofollow nofollow" target="_blank"><font color="#0066cc">www.CarsTimeForgot.com</font></a></span></span></div>\n
LOCATION:Show Map Hide Map Lake Lawn Resort 2400 E Geneva St\, Delavan\, Wisconsin 53115
UID:e.2059.5487
SEQUENCE:3
DTSTAMP:20260423T012840Z
URL:https://business.elkhornchamber.com/events/details/the-cars-time-forgot-car-show-at-lake-lawn-resort-5487
END:VEVENT

END:VCALENDAR
