BEGIN:VCALENDAR
VERSION:2.0
PRODID:-//ChamberMaster//Event Calendar 2.0//EN
METHOD:PUBLISH
X-PUBLISHED-TTL:P3D
REFRESH-INTERVAL:P3D
CALSCALE:GREGORIAN
BEGIN:VEVENT
DTSTART:20171021T150000Z
DTEND:20171021T210000Z
X-MICROSOFT-CDO-ALLDAYEVENT:FALSE
SUMMARY:The Big Chill Golf Tournament at Majestic Oaks
DESCRIPTION:Join us for our Big Chill Golf Tournament on Saturday\, October 21\, 2017. \n\nThis 4-player team event has a shotgun start at 10 AM\, and features a Bloody Mary Bar.  Prizes will be given to the first\, second\, and third place teams along with additional prizes for course games\, drawings\, and raffles.  \n\nNew this year:   there will be a golf ball drop from a helicopter AND a hole-in-one contest to win a CAR!\n\nThe cost of this event is $75 per player and includes golf\, cart and lunch buffet.\n\n$75 per player and includes golf\, cart and lunch buffet served at 3PM.\n\nMajestic Oaks Full Members will receive complimentary entrance\n\nMajestic Oaks Season Pass holders receive a 50% discount ($37.50)\n\n$80 per team for skins is optional (no discount on skins purse)\n\nCLICK HERE to register here for the tournament.\n\nYou may also book by visiting the Majestic Oaks at Lake Lawn Resort Pro Shop\, or by calling 262-725-9200.\n\nMenu Coming Soon!\n\nBeverage Service available at the Clubhouse Sports Bar & Grill on a cash basis
X-ALT-DESC;FMTTYPE=text/html:<div class="article-body">\n<p style="text-align: center\;"><span style="font-size: 24pt\; color: #000000\;">Join us for our <strong>Big Chill Golf Tournament</strong> on Saturday\, October 21\, 2017. </span></p>\n\n<p><span style="font-size: 18pt\; color: #000000\;">This 4-player team event has a shotgun start at 10 AM\, and features a Bloody Mary Bar. &nbsp\;Prizes will be given to the first\, second\, and third place teams along with additional prizes for course games\, drawings\, and raffles. &nbsp\;</span></p>\n\n<p><span style="font-size: 18pt\; color: #000000\;"><em>New this year:</em> &ndash\; there will be a golf ball drop from a helicopter AND a hole-in-one contest to win a CAR!</span></p>\n\n<p><span style="font-size: 18pt\; color: #000000\;">The cost of this event is $75 per player and includes golf\, cart and lunch buffet.</span></p>\n\n<p><span style="font-size: 18pt\; color: #000000\;">$75 per player and includes golf\, cart and lunch buffet served at 3PM.</span></p>\n\n<p><span style="font-size: 18pt\; color: #000000\;">Majestic Oaks Full Members will receive complimentary entrance</span></p>\n\n<p><span style="font-size: 18pt\; color: #000000\;">Majestic Oaks Season Pass holders receive a 50% discount ($37.50)</span></p>\n\n<p><span style="font-size: 18pt\; color: #000000\;">$80 per team for skins is optional (no discount on skins purse)</span></p>\n\n<p><span style="font-size: 18pt\; color: #000000\;"><a href="https://www.eventbrite.com/e/2017-big-chill-golf-tournament-at-majestic-oaks-tickets-37487178159?aff=es2"><strong>CLICK HERE to register here for the tournament.</strong></a></span></p>\n\n<p><span style="font-size: 18pt\; color: #000000\;">You may also book by visiting the Majestic Oaks at Lake Lawn Resort Pro Shop\, or by calling 262-725-9200.</span></p>\n\n<p style="text-align: center\;"><span style="color: #000000\;"><span style="font-size: 24px\;">Menu Coming Soon!</span></span></p>\n\n<p style="text-align: left\;"><span style="font-size: 18pt\; color: #000000\;"><em>Beverage Service available at the Clubhouse Sports Bar &amp\; Grill on a cash basis</em></span></p>\n</div>\n
LOCATION:Location: Majestic Oaks Golf Course at Lake Lawn Resort 2400 East Geneva Street Delavan\, WI 53115
UID:e.2059.6096
SEQUENCE:3
DTSTAMP:20260422T220037Z
URL:https://business.elkhornchamber.com/events/details/the-big-chill-golf-tournament-at-majestic-oaks-6096
END:VEVENT

END:VCALENDAR
