BEGIN:VCALENDAR
VERSION:2.0
PRODID:-//ChamberMaster//Event Calendar 2.0//EN
METHOD:PUBLISH
X-PUBLISHED-TTL:P3D
REFRESH-INTERVAL:P3D
CALSCALE:GREGORIAN
BEGIN:VEVENT
DTSTART;VALUE=DATE:20171013
DTEND;VALUE=DATE:20171016
TRANSP:TRANSPARENT
X-MICROSOFT-CDO-ALLDAYEVENT:TRUE
SUMMARY:The Addams Family
DESCRIPTION:The Lakeland Players presents The Addams Family coming to Elkhorn\, Wi on October 13-15th.\n\nMore information coming soon.
X-ALT-DESC;FMTTYPE=text/html:The Lakeland Players presents The Addams Family coming to Elkhorn\, Wi on October 13-15th.<br />\nMore information coming soon.
LOCATION:Walworth County Performing Arts Center 15 W. Walworth Street Elkhorn\, WI
UID:e.2059.4775
SEQUENCE:3
DTSTAMP:20260422T214713Z
URL:https://business.elkhornchamber.com/events/details/the-addams-family-4775
END:VEVENT

END:VCALENDAR
