BEGIN:VCALENDAR
VERSION:2.0
PRODID:-//ChamberMaster//Event Calendar 2.0//EN
METHOD:PUBLISH
X-PUBLISHED-TTL:P3D
REFRESH-INTERVAL:P3D
CALSCALE:GREGORIAN
BEGIN:VEVENT
DTSTART:20150919T180000Z
DTEND:20150919T220000Z
X-MICROSOFT-CDO-ALLDAYEVENT:FALSE
SUMMARY:That Festival Thing
DESCRIPTION:This is a FREE event for the whole family! Come join us for a day of food\, games and fun. The fun will include an inflatable obstacle course and an inflatable toddler area. There will also be other games\, crafts and face painting. The sheriff's department will be on site for fingerprinting and car seat inspection. There will also be gift baskets to be given away. Come join us for a day of fun! Open to the public!
X-ALT-DESC;FMTTYPE=text/html:This is a FREE event for the whole family! Come join us for a day of food\, games and fun. The fun will include an inflatable obstacle course and an inflatable toddler area. There will also be other games\, crafts and face painting. The sheriff&#39\;s department will be on site for fingerprinting and car seat inspection. There will also be gift baskets to be given away. Come join us for a day of fun! Open to the public!
LOCATION:Emmanuel Baptist Church 920 County Trunk H - Just past Gateway Technical College
UID:e.2059.1646
SEQUENCE:3
DTSTAMP:20260424T141656Z
URL:https://business.elkhornchamber.com/events/details/that-festival-thing-09-19-2015-1646
END:VEVENT

END:VCALENDAR
