BEGIN:VCALENDAR
VERSION:2.0
PRODID:-//ChamberMaster//Event Calendar 2.0//EN
METHOD:PUBLISH
X-PUBLISHED-TTL:P3D
REFRESH-INTERVAL:P3D
CALSCALE:GREGORIAN
BEGIN:VEVENT
DTSTART:20181103T143000Z
DTEND:20181103T163000Z
X-MICROSOFT-CDO-ALLDAYEVENT:FALSE
SUMMARY:Thanks & Giving Festival
DESCRIPTION:Family friendly festival including a presentation of "Wild Wisconsin" by the Racine Zoo\, food\, activities and a silent auction. All proceeds from the silent auction will go to Tree House Child and Family Center.
X-ALT-DESC;FMTTYPE=text/html:Family friendly festival including a presentation of &quot\;Wild Wisconsin&quot\; by the Racine Zoo\, food\, activities and a silent auction. All proceeds from the silent auction will go to Tree House Child and Family Center.
LOCATION:First Lutheran Church and School 415 S. Devendorf Street\, Elkhorn
UID:e.2059.9565
SEQUENCE:3
DTSTAMP:20260421T223824Z
URL:https://business.elkhornchamber.com/events/details/thanks-giving-festival-9565
END:VEVENT

END:VCALENDAR
