BEGIN:VCALENDAR
VERSION:2.0
PRODID:-//ChamberMaster//Event Calendar 2.0//EN
METHOD:PUBLISH
X-PUBLISHED-TTL:P3D
REFRESH-INTERVAL:P3D
CALSCALE:GREGORIAN
BEGIN:VEVENT
DTSTART:20151119T180000Z
DTEND:20151119T230000Z
X-MICROSOFT-CDO-ALLDAYEVENT:FALSE
SUMMARY:Technology Petting Zoo
DESCRIPTION:Thinking about asking for a tablet or eReader for Christmas this year? Visit us at the Reference desk all afternoon and try out an iPad\, Kindle Fire\, Nook Color\, Nexus Tab\, and Kindle Paperwhite. We'll be on hand to answer any questions you have about them. Best of all\, if you don't get your own tablet over the holidays\, all of the devices we show off will be available for checkout!
X-ALT-DESC;FMTTYPE=text/html:<span style="font-family:courier new"><span style="font-size:12.0pt">Thinking about asking for a tablet or eReader for Christmas this year? Visit us at the Reference desk all afternoon and try out an iPad\, Kindle Fire\, Nook Color\, Nexus Tab\, and Kindle Paperwhite. We&#39\;ll be on hand to answer any questions you have about them. Best of all\, if you don&#39\;t get your own tablet over the holidays\, all of the devices we show off will be available for checkout!</span></span>
LOCATION:Matheson Memorial Library
UID:e.2059.1809
SEQUENCE:3
DTSTAMP:20260424T111905Z
URL:https://business.elkhornchamber.com/events/details/technology-petting-zoo-11-19-2015-1809
END:VEVENT

END:VCALENDAR
