BEGIN:VCALENDAR
VERSION:2.0
PRODID:-//ChamberMaster//Event Calendar 2.0//EN
METHOD:PUBLISH
X-PUBLISHED-TTL:P3D
REFRESH-INTERVAL:P3D
CALSCALE:GREGORIAN
BEGIN:VEVENT
DTSTART:20160227T190000Z
DTEND:20160227T210000Z
X-MICROSOFT-CDO-ALLDAYEVENT:FALSE
SUMMARY:Tea with Mary Todd Lincoln
DESCRIPTION:Enjoy tea and tasty treats while listening to Jessica Michna portray Mary Todd Lincoln.  Listen to her stories of life in Kentucky\, her stories of life in Kentucky\, her family and her husband\, the gangly young lawyer who became president.
X-ALT-DESC;FMTTYPE=text/html:Enjoy tea and tasty treats while listening to Jessica Michna portray Mary Todd Lincoln.&nbsp\; Listen to her stories of life in Kentucky\, her stories of life in Kentucky\, her family and her husband\, the gangly young lawyer who became president.
LOCATION:Matheson Memorial Library\, Community Room\, 101 Wisconsin St.\, Elkhorn\, WI 53121
UID:e.2059.1939
SEQUENCE:3
DTSTAMP:20260424T064913Z
URL:https://business.elkhornchamber.com/events/details/tea-with-mary-todd-lincoln-02-27-2016-1939
END:VEVENT

END:VCALENDAR
