BEGIN:VCALENDAR
VERSION:2.0
PRODID:-//ChamberMaster//Event Calendar 2.0//EN
METHOD:PUBLISH
X-PUBLISHED-TTL:P3D
REFRESH-INTERVAL:P3D
CALSCALE:GREGORIAN
BEGIN:VEVENT
DTSTART:20180318T190000Z
DTEND:20180318T210000Z
X-MICROSOFT-CDO-ALLDAYEVENT:FALSE
SUMMARY:Tea with Cordelia Harvey
DESCRIPTION:Join us for an afternoon of tea\, sweets & savory finger foods as Jessica Michna brings us an historic portrayal of Cordelia Harvey: Angel in a Gray Bonnet\, to the stage in Caldwell Hall at Old World Wisconsin. Cordelia Harvey came to Wisconsin as a young girl\, trained as a school mistress. She would meet and marry Louis Harvey\, who would rise to become Governor of Wisconsin. Cordelia's life unraveled when she was widowed after less than three months in the Governor's Mansion. Her husband's tragic drowning left Cordelia rudderless and without purpose. She would set aside her grief to become the healing angel of a nation wracked by civil war.
X-ALT-DESC;FMTTYPE=text/html:Join us for an afternoon of tea\, sweets &amp\; savory finger foods as Jessica Michna brings us an historic portrayal of Cordelia Harvey: Angel in a Gray Bonnet\, to the stage in Caldwell Hall at Old World Wisconsin. Cordelia Harvey came to Wisconsin as a young girl\, trained as a school mistress. She would meet and marry Louis Harvey\, who would rise to become Governor of Wisconsin. Cordelia&#39\;s life unraveled when she was widowed after less than three months in the Governor&#39\;s Mansion. Her husband&#39\;s tragic drowning left Cordelia rudderless and without purpose. She would set aside her grief to become the healing angel of a nation wracked by civil war.
LOCATION:Caldwell Hall at Old World Wisconsin W372S9727 State Rd 67\, Eagle\, WI
UID:e.2059.7528
SEQUENCE:3
DTSTAMP:20260422T114524Z
URL:https://business.elkhornchamber.com/events/details/tea-with-cordelia-harvey-7528
END:VEVENT

END:VCALENDAR
