BEGIN:VCALENDAR
VERSION:2.0
PRODID:-//ChamberMaster//Event Calendar 2.0//EN
METHOD:PUBLISH
X-PUBLISHED-TTL:P3D
REFRESH-INTERVAL:P3D
CALSCALE:GREGORIAN
BEGIN:VEVENT
DTSTART;VALUE=DATE:20180602
DTEND;VALUE=DATE:20180603
TRANSP:TRANSPARENT
X-MICROSOFT-CDO-ALLDAYEVENT:TRUE
SUMMARY:Taste of Lake Geneva
DESCRIPTION:EVENT DETAILS\n\nCelebrate Food and kick off summer in Lake Geneva!  This year\, the Taste of Lake Geneva has made some exciting changes!  We've moved dates so we can team up with Lake Geneva's Restaurant Week and enjoy all of the best food the area has to offer.  Additionally\, we are partnering with the Walworth County Food Pantry to bring awareness to the number of families with food necessities throughout Walworth County!  \n\nSpend your Saturday sampling your way through some of the area's best restaurants.  Enjoy food demos\, live music\, beer and wine in a beautiful lakeside setting.\n\n$2 Admission\n\nFood samples ranging from $3   $9\n\nParticipating restaurants will be updated as registration forms are received.  \n\nEVENT ORGANIZED BY\nThe Streets of Lake Geneva
X-ALT-DESC;FMTTYPE=text/html:<p class="adl-event-details-title" style="box-sizing: inherit\; margin: 0.5rem 0px 2px\; padding: 0px\; line-height: 1.6\; text-rendering: optimizeLegibility\; font-family: &quot\;Open Sans&quot\;\, Arial\, sans-serif\; -webkit-font-smoothing: antialiased\; color: rgb(3\, 3\, 3)\;"><span style="box-sizing: inherit\; font-weight: 700\; line-height: inherit\;">EVENT DETAILS</span></p>\n\n<p style="box-sizing: inherit\; margin: 0px 0px 1rem\; padding: 0px\; line-height: 1.6\; text-rendering: optimizeLegibility\; font-family: &quot\;Open Sans&quot\;\, Arial\, sans-serif\; -webkit-font-smoothing: antialiased\; color: rgb(3\, 3\, 3)\;">Celebrate Food and kick off summer in Lake Geneva!&nbsp\; This year\, the Taste of Lake Geneva has made some exciting changes!&nbsp\; We&rsquo\;ve moved dates so we can team up with Lake Geneva&rsquo\;s Restaurant Week and enjoy all of the best food the area has to offer.&nbsp\; Additionally\, we are partnering with the Walworth County Food Pantry to bring awareness to the number of families with food necessities throughout Walworth County!&nbsp\;&nbsp\;</p>\n\n<p style="box-sizing: inherit\; margin: 0px 0px 1rem\; padding: 0px\; line-height: 1.6\; text-rendering: optimizeLegibility\; font-family: &quot\;Open Sans&quot\;\, Arial\, sans-serif\; -webkit-font-smoothing: antialiased\; color: rgb(3\, 3\, 3)\;">Spend your Saturday sampling your way through some of the area&rsquo\;s best restaurants.&nbsp\; Enjoy food demos\, live music\, beer and wine in a beautiful lakeside setting.</p>\n\n<p style="box-sizing: inherit\; margin: 0px 0px 1rem\; padding: 0px\; line-height: 1.6\; text-rendering: optimizeLegibility\; font-family: &quot\;Open Sans&quot\;\, Arial\, sans-serif\; -webkit-font-smoothing: antialiased\; color: rgb(3\, 3\, 3)\;">$2 Admission<br style="box-sizing: inherit\;" />\nFood samples ranging from $3 &ndash\; $9</p>\n\n<p style="box-sizing: inherit\; margin: 0px 0px 1rem\; padding: 0px\; line-height: 1.6\; text-rendering: optimizeLegibility\; font-family: &quot\;Open Sans&quot\;\, Arial\, sans-serif\; -webkit-font-smoothing: antialiased\; color: rgb(3\, 3\, 3)\;">Participating restaurants will be updated as registration forms are received.&nbsp\;&nbsp\;</p>\n\n<p class="adl-event-details-organized-by" style="box-sizing: inherit\; margin: 0px 0px 2px\; padding: 0px\; line-height: 1.6\; text-rendering: optimizeLegibility\; font-family: &quot\;Open Sans&quot\;\, Arial\, sans-serif\; -webkit-font-smoothing: antialiased\; color: rgb(3\, 3\, 3)\;"><span style="box-sizing: inherit\; font-weight: 700\; line-height: inherit\;">EVENT ORGANIZED BY</span></p>\n<span style="color: rgb(3\, 3\, 3)\; font-family: &quot\;Open Sans&quot\;\, Arial\, sans-serif\;">The Streets of Lake Geneva&nbsp\;</span>
LOCATION:Downtown Lake Geneva\,WI
UID:e.2059.8789
SEQUENCE:3
DTSTAMP:20260422T074020Z
URL:https://business.elkhornchamber.com/events/details/taste-of-lake-geneva-8789
END:VEVENT

END:VCALENDAR
