BEGIN:VCALENDAR
VERSION:2.0
PRODID:-//ChamberMaster//Event Calendar 2.0//EN
METHOD:PUBLISH
X-PUBLISHED-TTL:P3D
REFRESH-INTERVAL:P3D
CALSCALE:GREGORIAN
BEGIN:VEVENT
DTSTART:20190603T230000Z
DTEND:20190604T010000Z
X-MICROSOFT-CDO-ALLDAYEVENT:FALSE
SUMMARY:Talk Saves Lives
DESCRIPTION:Talk Saves Lives ~ June 3rd at 6pm  at Elkhorn Area High School Library.\n\nA breif introduction to Suicide Prevention. Suicide can be prevented. This presentation will cover what we know about this leading cause of death\, the most up-to-date research on prevention\, and what we can all do to fight suicide. Participants will learn the common risk factors for suicide\, how to spot the warning signs in others\, and how to keep ourselves\, our loved ones and those in our community safe. Brought to you by funds raised by: Walworth County Out of the Darkness Walk
X-ALT-DESC;FMTTYPE=text/html:Talk Saves Lives ~ June 3rd at 6pm&nbsp\; at Elkhorn Area High School Library.<br />\nA breif introduction to Suicide Prevention. Suicide can be prevented. This presentation will cover what we know about this leading cause of death\, the most up-to-date research on prevention\, and what we can all do to fight suicide. Participants will learn the common risk factors for suicide\, how to spot the warning signs in others\, and how to keep ourselves\, our loved ones and those in our community safe. Brought to you by funds raised by: Walworth County Out of the Darkness Walk
LOCATION:Elkhorn Area High School (Library) 482 East Geneva St.
UID:e.2059.10899
SEQUENCE:3
DTSTAMP:20260421T031322Z
URL:https://business.elkhornchamber.com/events/details/talk-saves-lives-10899
END:VEVENT

END:VCALENDAR
