BEGIN:VCALENDAR
VERSION:2.0
PRODID:-//ChamberMaster//Event Calendar 2.0//EN
METHOD:PUBLISH
X-PUBLISHED-TTL:P3D
REFRESH-INTERVAL:P3D
CALSCALE:GREGORIAN
BEGIN:VEVENT
DTSTART:20170810T233000Z
DTEND:20170811T010000Z
X-MICROSOFT-CDO-ALLDAYEVENT:FALSE
SUMMARY:Taking the Mystery out of Retirement Planning
DESCRIPTION:Please join us as Amanda Kostman\, educator with the University of Wisconsin Extension Service\,  helps us navigate a path to a safe and secure retirement. She'll cover financial planning\, medical expenses\, and understanding government programs that can help you achieve your goal.
X-ALT-DESC;FMTTYPE=text/html:<span style="background-color:transparent\; color:rgb(0\, 0\, 0)\; font-family:courier new\; font-size:12pt">Please join us as Amanda Kostman\,&nbsp\;</span><span style="color:rgb(0\, 0\, 0)\; font-family:arial\; font-size:12px"><span style="font-size:16px"><span style="font-family:courier new">educator with the University of Wisconsin Extension Service\,</span></span>&nbsp\;</span><span style="background-color:transparent\; color:rgb(0\, 0\, 0)\; font-family:courier new\; font-size:12pt">&nbsp\;helps us navigate a path to a safe and secure retirement. She&rsquo\;ll cover financial planning\, medical expenses\, and understanding government programs that can help you achieve your goal.</span>
LOCATION:Matheson Memorial Library
UID:e.2059.5478
SEQUENCE:3
DTSTAMP:20260422T233617Z
URL:https://business.elkhornchamber.com/events/details/taking-the-mystery-out-of-retirement-planning-5478
END:VEVENT

END:VCALENDAR
