BEGIN:VCALENDAR
VERSION:2.0
PRODID:-//ChamberMaster//Event Calendar 2.0//EN
METHOD:PUBLISH
X-PUBLISHED-TTL:P3D
REFRESH-INTERVAL:P3D
CALSCALE:GREGORIAN
BEGIN:VEVENT
DTSTART:20150215T210000Z
DTEND:20150216T013000Z
X-MICROSOFT-CDO-ALLDAYEVENT:FALSE
SUMMARY:Sweetheart Banquet
DESCRIPTION:Celebrate Valentine's Day with your partner by enriching your relationship! Pastor Dick (a clinical fellow of the American Association of Marriage and Family Therapists)\, Sugar Creek Lutheran Church\, and Lutherdale Bible Camp are hosting a Sweetheart Banquet on February 15th for couples to learn more about love languages\, and the seven ingredients to a healthy lasting relationship. Relationship Enrichment Seminar begins at 3pm. Dinner is at 6:30. Cost is $40/couple. $10/child for care (includes dinner)
X-ALT-DESC;FMTTYPE=text/html:Celebrate Valentine&#39\;s Day with your partner by enriching your relationship! Pastor Dick (a clinical fellow of the American Association of Marriage and Family Therapists)\, Sugar Creek Lutheran Church\, and Lutherdale Bible Camp are hosting a Sweetheart Banquet on February 15th for couples to learn more about love languages\, and the seven ingredients to a healthy lasting relationship. Relationship Enrichment Seminar begins at 3pm. Dinner is at 6:30. Cost is $40/couple. $10/child for care (includes dinner)
LOCATION:Lutherdale Bible Camp N7891 Hwy 12\, Elkhorn
UID:e.2059.820
SEQUENCE:3
DTSTAMP:20260425T023055Z
URL:https://business.elkhornchamber.com/events/details/sweetheart-banquet-02-15-2015-820
END:VEVENT

END:VCALENDAR
