BEGIN:VCALENDAR
VERSION:2.0
PRODID:-//ChamberMaster//Event Calendar 2.0//EN
METHOD:PUBLISH
X-PUBLISHED-TTL:P3D
REFRESH-INTERVAL:P3D
CALSCALE:GREGORIAN
BEGIN:VEVENT
DTSTART:20160504T003000Z
DTEND:20160504T023000Z
X-MICROSOFT-CDO-ALLDAYEVENT:FALSE
SUMMARY:Swan Lake (Moscow Festival Ballet)
DESCRIPTION:Swan Lake is arguably one of the most famous of Tchaikovsky?s ballets. The musical dance tells the story of Odette\, a princess turned into a swan by an evil sorcerer. Graceful and dramatic dancing and music make for a memorable\, artistic and dynamic performance. The Moscow Festival Ballet was founded in 1989 with a vision to bring together the highest classical elements of the great Bolshoi and Kirov Ballet companies in an independent new company within the framework of Russian classic ballet\, staging new productions of timeless classics.
X-ALT-DESC;FMTTYPE=text/html:Swan Lake is arguably one of the most famous of Tchaikovsky?s ballets. The musical dance tells the story of Odette\, a princess turned into a swan by an evil sorcerer. Graceful and dramatic dancing and music make for a memorable\, artistic and dynamic performance. The Moscow Festival Ballet was founded in 1989 with a vision to bring together the highest classical elements of the great Bolshoi and Kirov Ballet companies in an independent new company within the framework of Russian classic ballet\, staging new productions of timeless classics.
LOCATION:Young Auditorium - 930 West Main Street\, Whitewater
UID:e.2059.1667
SEQUENCE:3
DTSTAMP:20260424T012554Z
URL:https://business.elkhornchamber.com/events/details/swan-lake-moscow-festival-ballet-05-03-2016-1667
END:VEVENT

END:VCALENDAR
