BEGIN:VCALENDAR
VERSION:2.0
PRODID:-//ChamberMaster//Event Calendar 2.0//EN
METHOD:PUBLISH
X-PUBLISHED-TTL:P3D
REFRESH-INTERVAL:P3D
CALSCALE:GREGORIAN
BEGIN:VEVENT
DTSTART:20181117T160000Z
DTEND:20181117T180000Z
X-MICROSOFT-CDO-ALLDAYEVENT:FALSE
SUMMARY:Survivors of Suicide Loss Day
DESCRIPTION:Survivor Day is the one day a year when people affected by suicide loss gather around the world at events in their local communities to find comfort and gain understanding as they share stories of healing and hope. Walworth County's Event will have light snacks\, show a couple of short documentary films\, have open discussion following the films\, community resources and overall will be a very informal event.
X-ALT-DESC;FMTTYPE=text/html:Survivor Day is the one day a year when people affected by suicide loss gather around the world at events in their local communities to find comfort and gain understanding as they share stories of healing and hope. Walworth County&rsquo\;s Event will have light snacks\, show a couple of short documentary films\, have open discussion following the films\, community resources and overall will be a very informal event.
LOCATION:Matheson Memorial Library - Community Center 101 N Wisconsin St. Elkhorn\, WI 53121
UID:e.2059.9585
SEQUENCE:3
DTSTAMP:20260421T224032Z
URL:https://business.elkhornchamber.com/events/details/survivors-of-suicide-loss-day-9585
END:VEVENT

END:VCALENDAR
