BEGIN:VCALENDAR
VERSION:2.0
PRODID:-//ChamberMaster//Event Calendar 2.0//EN
METHOD:PUBLISH
X-PUBLISHED-TTL:P3D
REFRESH-INTERVAL:P3D
CALSCALE:GREGORIAN
BEGIN:VEVENT
DTSTART:20150913T133000Z
DTEND:20150913T180000Z
X-MICROSOFT-CDO-ALLDAYEVENT:FALSE
SUMMARY:Sunday School Rally Day
DESCRIPTION:Sunday school rally and pot luck!
X-ALT-DESC;FMTTYPE=text/html:Sunday school rally and pot luck!
LOCATION:Elkhorn First UMC 111 Broad St\, Elkhorn
UID:e.2059.1697
SEQUENCE:3
DTSTAMP:20260424T141732Z
URL:https://business.elkhornchamber.com/events/details/sunday-school-rally-day-09-13-2015-1697
END:VEVENT

END:VCALENDAR
