BEGIN:VCALENDAR
VERSION:2.0
PRODID:-//ChamberMaster//Event Calendar 2.0//EN
METHOD:PUBLISH
X-PUBLISHED-TTL:P3D
REFRESH-INTERVAL:P3D
CALSCALE:GREGORIAN
BEGIN:VEVENT
DTSTART:20180712T233000Z
DTEND:20180713T010000Z
X-MICROSOFT-CDO-ALLDAYEVENT:FALSE
SUMMARY:Summertime Crafting
DESCRIPTION:Celebrate summer with fun and easy crafts. We'll be making suncatchers and fabric cork boards. \n\nThis program is free but registration is required.\n\nRegister at https://www.elkhorn.lib.wi.us/wordpress/calendar/ or call us at 262-723-2678.\n\nAttendees will receive one free Adult Summer Reading Program grand prize entry!
X-ALT-DESC;FMTTYPE=text/html:<p style="text-align:center">Celebrate summer with fun and easy crafts. We&#39\;ll be making suncatchers and fabric cork boards.&nbsp\;</p>\n\n<p style="text-align:center"><strong>This program is free but registration is required.<br />\nRegister at&nbsp\;https://www.elkhorn.lib.wi.us/wordpress/calendar/</strong><strong> or call us at 262-723-2678.</strong></p>\n\n<p style="text-align:center"><span style="font-family:arial">Attendees will receive one free Adult Summer Reading Program grand prize entry!</span></p>\n
LOCATION:Matheson Memorial Library
UID:e.2059.9122
SEQUENCE:3
DTSTAMP:20260422T053938Z
URL:https://business.elkhornchamber.com/events/details/summertime-crafting-9122
END:VEVENT

END:VCALENDAR
