BEGIN:VCALENDAR
VERSION:2.0
PRODID:-//ChamberMaster//Event Calendar 2.0//EN
METHOD:PUBLISH
X-PUBLISHED-TTL:P3D
REFRESH-INTERVAL:P3D
CALSCALE:GREGORIAN
BEGIN:VEVENT
DTSTART:20170806T160000Z
DTEND:20170806T180000Z
X-MICROSOFT-CDO-ALLDAYEVENT:FALSE
SUMMARY:Sugar Creek Lutheran Church
DESCRIPTION:Family Fun Fest!\n\nJoin Sugar Creek Lutheran Church for their BBQ Chicken Dinner Fundraiser.\n\nTickets need to be purchased in advanced at Sugar Creek Lutheran Church\n\nMeal includes 1/2 chicken (Adults) or Drumstick & Thigh (Children) Baked Beans\, Potato Salad\, Dinner Roll\, Dessert\, Beverage.\n\nAlso Featuring Family Fun Fest: activities include water games\, giant twister & puppies to cuddle. Come to interact with Lakeland Animal Shelter's Fur Friends!\n\nProceeds will benefit SCLC Youth attending the 2018 ELCA National Youth Gathering in Houston\, TX & Lakeland Animal Shelter!\n\nThank you for your support!
X-ALT-DESC;FMTTYPE=text/html:Family Fun Fest!<br />\nJoin Sugar Creek Lutheran Church for their BBQ Chicken Dinner Fundraiser.<br />\nTickets need to be purchased in advanced at Sugar Creek Lutheran Church<br />\nMeal includes 1/2 chicken (Adults) or Drumstick &amp\; Thigh (Children) Baked Beans\, Potato Salad\, Dinner Roll\, Dessert\, Beverage.<br />\nAlso Featuring Family Fun Fest: activities include water games\, giant twister &amp\; puppies to cuddle. Come to interact with Lakeland Animal Shelter&#39\;s Fur Friends!<br />\nProceeds will benefit SCLC Youth attending the 2018 ELCA National Youth Gathering in Houston\, TX &amp\; Lakeland Animal Shelter!<br />\nThank you for your support!<br />\n&nbsp\;
LOCATION:Sugar Creek Fellowship Hall: N5690 Cobblestone Drive\, Elkhorn
UID:e.2059.5694
SEQUENCE:3
DTSTAMP:20260422T233234Z
URL:https://business.elkhornchamber.com/events/details/sugar-creek-lutheran-church-5694
END:VEVENT

END:VCALENDAR
