BEGIN:VCALENDAR
VERSION:2.0
PRODID:-//ChamberMaster//Event Calendar 2.0//EN
METHOD:PUBLISH
X-PUBLISHED-TTL:P3D
REFRESH-INTERVAL:P3D
CALSCALE:GREGORIAN
BEGIN:VEVENT
DTSTART:20180717T183000Z
DTEND:20180717T193000Z
X-MICROSOFT-CDO-ALLDAYEVENT:FALSE
SUMMARY:Storywagon: The Moogician
DESCRIPTION:"The Moogician" is the only magical\, juggling\, banjo-playing\, comedy act that also educates about dairy and cows.\n\nSee how milk is magical\, cheese is juggle-able\, butter is healthy and cows are cool at this exciting show with surprises around every corner.
X-ALT-DESC;FMTTYPE=text/html:<div style="text-align:center">\n<p style="text-align:center">&ldquo\;The Moogician&rdquo\; is the only magical\, juggling\, banjo-playing\, comedy act that also educates about dairy and cows.</p>\n\n<p style="text-align:center">See how milk is magical\, cheese is juggle-able\, butter is healthy and cows are cool at this exciting show with surprises around every corner.</p>\n</div>\n
LOCATION:Matheson Memorial Library
UID:e.2059.8982
SEQUENCE:3
DTSTAMP:20260422T071738Z
URL:https://business.elkhornchamber.com/events/details/storywagon-the-moogician-07-17-2018-8982
END:VEVENT

END:VCALENDAR
