BEGIN:VCALENDAR
VERSION:2.0
PRODID:-//ChamberMaster//Event Calendar 2.0//EN
METHOD:PUBLISH
X-PUBLISHED-TTL:P3D
REFRESH-INTERVAL:P3D
CALSCALE:GREGORIAN
BEGIN:VEVENT
DTSTART:20180724T183000Z
DTEND:20180724T193000Z
X-MICROSOFT-CDO-ALLDAYEVENT:FALSE
SUMMARY:Storywagon: Snake Discovery
DESCRIPTION:Slither into the world of reptiles during this hands-on program! Participants will get to meet several Wisconsin native reptile and amphibian species\, and can touch\, hold\, and feed the animals too!
X-ALT-DESC;FMTTYPE=text/html:<div style="text-align:center">\n<p style="text-align:center">Slither into the world of reptiles during this hands-on program! Participants will get to meet several Wisconsin native reptile and amphibian species\, and can touch\, hold\, and feed the animals too!</p>\n\n<p style="text-align:center">&nbsp\;</p>\n</div>\n
LOCATION:Matheson Memorial Library
UID:e.2059.8981
SEQUENCE:3
DTSTAMP:20260422T054035Z
URL:https://business.elkhornchamber.com/events/details/storywagon-snake-discovery-8981
END:VEVENT

END:VCALENDAR
