BEGIN:VCALENDAR
VERSION:2.0
PRODID:-//ChamberMaster//Event Calendar 2.0//EN
METHOD:PUBLISH
X-PUBLISHED-TTL:P3D
REFRESH-INTERVAL:P3D
CALSCALE:GREGORIAN
BEGIN:VEVENT
DTSTART:20190618T183000Z
DTEND:20190618T193000Z
X-MICROSOFT-CDO-ALLDAYEVENT:FALSE
SUMMARY:Storywagon: Snake Discovery
DESCRIPTION:Reptiles Around the World with Snake Discovery (live animals)\n\nSlither into the world of reptiles and discover how unique they are! We'll be 'traveling' around the world to meet reptiles from every continent. Learn what a legless lizard is\, watch a snake eat\, hold a large boa constrictor\, and more! There will be a large variety of scaly critters to meet and learn about at this event. This hands-on program is fun for all ages and abilities
X-ALT-DESC;FMTTYPE=text/html:<div style="text-align:center">\n<p><span style="background-color:transparent\; color:rgb(0\, 0\, 0)\; font-family:arial\; font-size:11pt">Reptiles Around the World with Snake Discovery (live animals)</span></p>\n\n<p><span style="background-color:transparent\; color:rgb(0\, 0\, 0)\; font-family:arial\; font-size:11pt">Slither into the world of reptiles and discover how unique they are! We&rsquo\;ll be &lsquo\;traveling&rsquo\; around the world to meet reptiles from every continent. Learn what a legless lizard is\, watch a snake eat\, hold a large boa constrictor\, and more! There will be a large variety of scaly critters to meet and learn about at this event. This hands-on program is fun for all ages and abilities</span></p>\n\n<div>&nbsp\;</div>\n\n<p style="text-align:center">&nbsp\;</p>\n</div>\n
LOCATION:Matheson Memorial Library
UID:e.2059.10892
SEQUENCE:3
DTSTAMP:20260421T033152Z
URL:https://business.elkhornchamber.com/events/details/storywagon-snake-discovery-06-18-2019-10892
END:VEVENT

END:VCALENDAR
