BEGIN:VCALENDAR
VERSION:2.0
PRODID:-//ChamberMaster//Event Calendar 2.0//EN
METHOD:PUBLISH
X-PUBLISHED-TTL:P3D
REFRESH-INTERVAL:P3D
CALSCALE:GREGORIAN
BEGIN:VEVENT
DTSTART:20180626T183000Z
DTEND:20180626T193000Z
X-MICROSOFT-CDO-ALLDAYEVENT:FALSE
SUMMARY:Storywagon: Libraries Rock Dance Party
DESCRIPTION:Join Miss Amy for the Libraries Rock Dance Party! Wiggle\, giggle\, rock and roll to active kid's dance songs. Everyone is sure to be entertained at this party! Anyone who likes to move and groove will find themselves dancing along. No experience or coordination required!
X-ALT-DESC;FMTTYPE=text/html:<div style="text-align:center"><span style="color:rgb(0\, 0\, 0)\; font-family:arial\; font-size:12px">Join Miss Amy for the Libraries Rock Dance Party! Wiggle\, giggle\, rock and roll to active kid&#39\;s dance songs. Everyone is sure to be entertained at this party! Anyone who likes to move and groove will find themselves dancing along. No experience or coordination required!</span></div>\n
LOCATION:Matheson Memorial Library
UID:e.2059.8958
SEQUENCE:3
DTSTAMP:20260422T085423Z
URL:https://business.elkhornchamber.com/events/details/storywagon-libraries-rock-dance-party-8958
END:VEVENT

END:VCALENDAR
