BEGIN:VCALENDAR
VERSION:2.0
PRODID:-//ChamberMaster//Event Calendar 2.0//EN
METHOD:PUBLISH
X-PUBLISHED-TTL:P3D
REFRESH-INTERVAL:P3D
CALSCALE:GREGORIAN
BEGIN:VEVENT
DTSTART:20180619T183000Z
DTEND:20180619T193000Z
X-MICROSOFT-CDO-ALLDAYEVENT:FALSE
SUMMARY:Storywagon: Leonardo Music
DESCRIPTION:Put on your dancing shoes and bring your best air guitar moves because it's time to go ROCKIN' AND READING with LEONARDO. This highly interactive performance has plenty of sing-a-longs and dance moves to inspire imagination\,\n\ncreativity and a love of reading in audiences of all ages and abilities.
X-ALT-DESC;FMTTYPE=text/html:<div style="text-align: center\;"><span style="color:rgb(0\, 0\, 0)\; font-family:arial\; font-size:12px">Put on your dancing shoes and bring your best air guitar moves because it&#39\;s time to go ROCKIN&#39\; AND READING with LEONARDO.&nbsp\;This highly interactive performance has plenty of sing-a-longs and dance moves to inspire imagination\,</span><br />\n<span style="color:rgb(0\, 0\, 0)\; font-family:arial\; font-size:12px">creativity and a love of reading in audiences of all ages and abilities.</span></div>\n
LOCATION:Matheson Memorial Library
UID:e.2059.8776
SEQUENCE:3
DTSTAMP:20260422T090759Z
URL:https://business.elkhornchamber.com/events/details/storywagon-leonardo-music-8776
END:VEVENT

END:VCALENDAR
