BEGIN:VCALENDAR
VERSION:2.0
PRODID:-//ChamberMaster//Event Calendar 2.0//EN
METHOD:PUBLISH
X-PUBLISHED-TTL:P3D
REFRESH-INTERVAL:P3D
CALSCALE:GREGORIAN
BEGIN:VEVENT
DTSTART:20180710T183000Z
DTEND:20180710T193000Z
X-MICROSOFT-CDO-ALLDAYEVENT:FALSE
SUMMARY:Storywagon: Kidsplay
DESCRIPTION:Roll & Rock!\n\nKidsplay steps into the world of rock and roll with its newest show\, Roll & Rock! \n\nTwo seasoned rockers share their greatest hits in this audience interactive program playing around the themes of creativity\, music\, and overcoming fears.
X-ALT-DESC;FMTTYPE=text/html:<div style="text-align:center">\n<p style="text-align:center"><strong>Roll &amp\; Rock!</strong></p>\n\n<p style="text-align:center">Kidsplay steps into the world of rock and roll with its newest show\, Roll &amp\;&nbsp\;Rock!&nbsp\;</p>\n\n<p style="text-align:center">Two seasoned rockers share their greatest hits in this audience interactive program playing around the themes of creativity\, music\, and overcoming fears.</p>\n</div>\n
LOCATION:Matheson Memorial Library
UID:e.2059.8979
SEQUENCE:3
DTSTAMP:20260422T054225Z
URL:https://business.elkhornchamber.com/events/details/storywagon-kidsplay-8979
END:VEVENT

END:VCALENDAR
