BEGIN:VCALENDAR
VERSION:2.0
PRODID:-//ChamberMaster//Event Calendar 2.0//EN
METHOD:PUBLISH
X-PUBLISHED-TTL:P3D
REFRESH-INTERVAL:P3D
CALSCALE:GREGORIAN
BEGIN:VEVENT
DTSTART:20160726T183000Z
DTEND:20160726T193000Z
X-MICROSOFT-CDO-ALLDAYEVENT:FALSE
SUMMARY:Storywagon at Matheson Memorial Library
DESCRIPTION:Join us for our annual summertime entertainment on Tuesday afternoons at 1:30!
X-ALT-DESC;FMTTYPE=text/html:Join us for our annual summertime entertainment on Tuesday afternoons at 1:30!&nbsp\;
LOCATION:Matheson Memorial Library
UID:e.2059.4413
SEQUENCE:3
DTSTAMP:20260423T220951Z
URL:https://business.elkhornchamber.com/events/details/storywagon-at-matheson-memorial-library-07-26-2016-4413
END:VEVENT

END:VCALENDAR
