BEGIN:VCALENDAR
VERSION:2.0
PRODID:-//ChamberMaster//Event Calendar 2.0//EN
METHOD:PUBLISH
X-PUBLISHED-TTL:P3D
REFRESH-INTERVAL:P3D
CALSCALE:GREGORIAN
BEGIN:VEVENT
DTSTART:20160712T150000Z
DTEND:20160712T160000Z
X-MICROSOFT-CDO-ALLDAYEVENT:FALSE
SUMMARY:Storytime with Ms. Pattie
DESCRIPTION:Join Ms. Pattie for stories\, songs\, games\, and crafts!
X-ALT-DESC;FMTTYPE=text/html:Join Ms. Pattie for stories\, songs\, games\, and crafts!&nbsp\;
LOCATION:Matheson Memorial Library
UID:e.2059.4398
SEQUENCE:3
DTSTAMP:20260423T220733Z
URL:https://business.elkhornchamber.com/events/details/storytime-with-ms-pattie-07-12-2016-4398
END:VEVENT

END:VCALENDAR
