BEGIN:VCALENDAR
VERSION:2.0
PRODID:-//ChamberMaster//Event Calendar 2.0//EN
METHOD:PUBLISH
X-PUBLISHED-TTL:P3D
REFRESH-INTERVAL:P3D
CALSCALE:GREGORIAN
BEGIN:VEVENT
DTSTART:20170921T140000Z
DTEND:20170921T160000Z
X-MICROSOFT-CDO-ALLDAYEVENT:FALSE
SUMMARY:Story Corps with Aurora at Home Hospice
DESCRIPTION:Learn how Aurora at Home is partnering with Story Corps to offer audio recordings of our patients stories. We are looking for volunteers to assist with the actual recording. See the equipment and talk with others who are currently recording stories.
X-ALT-DESC;FMTTYPE=text/html:Learn how Aurora at Home is partnering with Story Corps to offer audio recordings of our patients stories. We are looking for volunteers to assist with the actual recording. See the equipment and talk with others who are currently recording stories.
LOCATION:Chapel on the Hill - Lower level in Chapel Building N2440 Ara Glen Dr Lake Geneva WI
UID:e.2059.6082
SEQUENCE:3
DTSTAMP:20260422T214749Z
URL:https://business.elkhornchamber.com/events/details/story-corps-with-aurora-at-home-hospice-6082
END:VEVENT

END:VCALENDAR
