BEGIN:VCALENDAR
VERSION:2.0
PRODID:-//ChamberMaster//Event Calendar 2.0//EN
METHOD:PUBLISH
X-PUBLISHED-TTL:P3D
REFRESH-INTERVAL:P3D
CALSCALE:GREGORIAN
BEGIN:VEVENT
DTSTART:20191103T170000Z
DTEND:20191103T200000Z
X-MICROSOFT-CDO-ALLDAYEVENT:FALSE
SUMMARY:Stir It Up! Walworth County-wide Charitable Fundraiser
DESCRIPTION:What is Stir It Up?\n\na charitable Walworth County-wide fundraiser featuring fantastic food\, amazing entertainment and fellowship.\n\n \n\nTop area restaurants generously donate samples of their signature fare for the event.  Attendees enjoy the delicious and hearty samples while listening to upbeat music performed by wonderfully talented students from local high school choirs and jazz bands including:  Big Foot High School and Elkhorn Area High School. \n\n \n\nFunds are raised through tickets sales\, sponsorships\, raffles and other donations.  \n\n \n\nStir It Up provides a creative way to support a group of important causes working together to improve the quality of life in Walworth County.  This year\, funds raised by will benefit  Walworth County's Domestic Violence Shelter:  New Beginnings\, Lakeland Animal Shelter\, VIP Services and area high school music programs.\n\n\n\n  These AMAZING restaurants plan to join us in 2018:  \n\n Best Events Catering\, Brodie's Beef\, Crafted Americana\, Culver's of Elkhorn - Lake Geneva - Delavan\, Fiddlesticks Bistro\, Greenie's Clubhouse\, Geneva National Resort\, Hawk's View Golf Club\,  Lake Geneva Pie Co.\, Lakeland Bakery\, Lake Lawn Resort\, Madison Street Subs\, Moy's Restaurant\, Next Door Pub\,  Sperino's Little Italy\, Trout House at Rushing Waters Fisheries and Tuscan Tavern and Grill.  \n\nAll food\, water and coffee are donated\, so please help support these community minded businesses.
X-ALT-DESC;FMTTYPE=text/html:<h1 style="text-align: center\;"><span style="color:#FF0000\;"><span style="font-size:20px\;">What is Stir It Up?</span></span></h1>\n\n<h1 style="text-align: center\;"><span style="font-size:18px\;">a&nbsp\;charitable Walworth County-wide fundraiser featuring fantastic food\, amazing entertainment and fellowship.</span></h1>\n\n<p style="text-align: center\;">&nbsp\;</p>\n\n<p style="text-align: center\;"><strong>Top area restaurants generously donate samples of their signature fare for the event.&nbsp\;</strong>&nbsp\;Attendees enjoy the delicious and hearty samples while listening to <strong>upbeat music&nbsp\;performed by wonderfully talented students from local high school choirs </strong>and jazz bands including:&nbsp\;&nbsp\;<a href="https://www.facebook.com/BFHSMusic/" target=""><font color="#0066cc">Big Foot High School</font></a>&nbsp\;and&nbsp\;<a href="https://www.facebook.com/elkhsband/" target=""><font color="#0066cc">Elkhorn Area High School</font></a>.&nbsp\;</p>\n\n<p style="text-align: center\;">&nbsp\;</p>\n\n<p style="text-align: center\;">Funds are raised through tickets sales\, sponsorships\, raffles and other donations.&nbsp\;&nbsp\;</p>\n\n<p style="text-align: center\;">&nbsp\;</p>\n\n<p style="text-align: center\;">Stir It Up provides a creative way to <strong>support a group of important causes</strong> working together to improve the quality of life in Walworth County.&nbsp\; This year\, funds raised by will benefit&nbsp\; Walworth County&#39\;s Domestic Violence Shelter:&nbsp\; <a href="http://newbeginningswalworth.com/" target=""><font color="#0066cc">New Beginnings</font></a>\,&nbsp\;<a href="http://www.lakelandanimalshelter.org/" target=""><font color="#0066cc">Lakeland Animal Shelter</font></a>\,&nbsp\;<a href="http://vipservices-inc.org/" target=""><font color="#0066cc">VIP Services</font></a>&nbsp\;and area high school music programs.</p>\n\n<p style="text-align: center\;"><br />\n<strong>&#8203\;&#8203\;These AMAZING restaurants plan to join us in 2018:&nbsp\;&nbsp\;</strong></p>\n\n<p style="text-align: center\;">&#8203\;<a href="http://www.besteventscatering.com/" target=""><font color="#0066cc">Best Events Catering</font></a>\, <a href="http://www.brodiesbeef.com/index.html" target=""><font color="#0066cc">Brodie&#39\;s Beef</font></a>\,&nbsp\;<a href="http://www.craftedamericana.com/" target=""><font color="#0066cc">Crafted Americana</font></a>\, <a href="https://www.culvers.com/restaurants/elkhorn" target=""><font color="#0066cc">Culver&#39\;s of Elkhorn - Lake Geneva - Delavan</font></a>\,&nbsp\;<a href="https://www.facebook.com/fiddlesticksbistro1/" target=""><font color="#0066cc">Fiddlesticks Bistro</font></a>\,&nbsp\;<a href="http://greeniesclubhouse.com/" target=""><font color="#0066cc">Greenie&#39\;s Clubhouse</font></a>\, <a href="http://www.genevanationalresort.com/" target=""><font color="#0066cc">Geneva National Resort</font></a>\,&nbsp\;<a href="http://www.hawksviewgolfclub.com/" target=""><font color="#0066cc">Hawk&#39\;s View Golf Club</font></a>\,&nbsp\;&nbsp\;<a href="http://www.lgpie.com/" target=""><font color="#0066cc">Lake Geneva Pie Co.</font></a>\,&nbsp\;<a href="https://www.lakelandbakery.com/" target=""><font color="#0066cc">Lakeland Bakery</font></a>\,&nbsp\;<a href="https://www.lakelawnresort.com/" target=""><font color="#0066cc">Lake Lawn Resort</font></a>\, <a href="https://www.facebook.com/Madisonstreetsubs/" target=""><font color="#0066cc">Madison Street Subs</font></a>\, <a href="http://www.moysrestaurant.com/" target=""><font color="#0066cc">Moy&#39\;s Restaurant</font></a>\,&nbsp\;<a href="http://www.nextdoorpub.com/" target=""><font color="#0066cc">Next Door Pub</font></a>\,&nbsp\;&#8203\;<a href="http://www.sperinos.com/" target=""><font color="#0066cc">Sperino&#39\;s Little Italy</font></a>\,&nbsp\;<a href="http://www.rushingwaters.net/the-trout-house/" target=""><font color="#0066cc">Trout House at Rushing Waters Fisheries</font></a>&nbsp\;and&nbsp\;<a href="http://www.thetuscantavernandgrill.com/" target=""><font color="#0066cc">Tuscan Tavern and Grill</font></a>.&nbsp\;&nbsp\;</p>\n\n<p style="text-align: center\;"><em><strong>All food\, water and coffee are donated\, so please help support these community minded businesses.&nbsp\;&nbsp\;</strong></em></p>\n
LOCATION:Elkhorn Area High School 482 E. Geneva Street Elkhorn\, WI 53121
UID:e.2059.10819
SEQUENCE:3
DTSTAMP:20260420T054933Z
URL:https://business.elkhornchamber.com/events/details/stir-it-up-walworth-county-wide-charitable-fundraiser-10819
END:VEVENT

END:VCALENDAR
