BEGIN:VCALENDAR
VERSION:2.0
PRODID:-//ChamberMaster//Event Calendar 2.0//EN
METHOD:PUBLISH
X-PUBLISHED-TTL:P3D
REFRESH-INTERVAL:P3D
CALSCALE:GREGORIAN
BEGIN:VEVENT
DTSTART:20151101T170000Z
DTEND:20151101T210000Z
X-MICROSOFT-CDO-ALLDAYEVENT:FALSE
SUMMARY:Stir It Up Fundraiser
DESCRIPTION:Hosted by the Rotary Club of Elkhorn & VIP Services\, Inc. Stir it up provides a creative way for residents of Walworth County to support a group of important causes working to improve the quality of life for many in need. A charitable fundraiser which features food\, friendship and entertainment. The top 25 area restaurants will be serving some of their tastiest salads\, soups\, sliders\, BBQ and delectable desserts. There is no shortage of entertainment\; guests will be entertained by wonderfully-talented students form Badger High School Jazz Band\, East Troy High School Jazz Band\, Elkhorn High School Jazz Band and Choir as well as Westosha High School Show Choir. Plus there will be a silent auction\, which just may solve your holiday shopping challenge! There are also 6 different levels of sponsorship's for this wonderful fundraiser\, see www.stiritupwalco.com for more details.
X-ALT-DESC;FMTTYPE=text/html:Hosted by the Rotary Club of Elkhorn &amp\; VIP Services\, Inc. Stir it up provides a creative way for residents of Walworth County to support a group of important causes working to improve the quality of life for many in need. A charitable fundraiser which features food\, friendship and entertainment. The top 25 area restaurants will be serving some of their tastiest salads\, soups\, sliders\, BBQ and delectable desserts. There is no shortage of entertainment\; guests will be entertained by wonderfully-talented students form Badger High School Jazz Band\, East Troy High School Jazz Band\, Elkhorn High School Jazz Band and Choir as well as Westosha High School Show Choir. Plus there will be a silent auction\, which just may solve your holiday shopping challenge! There are also 6 different levels of sponsorship&#39\;s for this wonderful fundraiser\, see www.stiritupwalco.com for more details.
LOCATION:Elkhorn High School Elkhorn\, Wi 53121
UID:e.2059.1717
SEQUENCE:3
DTSTAMP:20260424T111900Z
URL:https://business.elkhornchamber.com/events/details/stir-it-up-fundraiser-11-01-2015-1717
END:VEVENT

END:VCALENDAR
