BEGIN:VCALENDAR
VERSION:2.0
PRODID:-//ChamberMaster//Event Calendar 2.0//EN
METHOD:PUBLISH
X-PUBLISHED-TTL:P3D
REFRESH-INTERVAL:P3D
CALSCALE:GREGORIAN
BEGIN:VEVENT
DTSTART:20161106T170000Z
DTEND:20161106T210000Z
X-MICROSOFT-CDO-ALLDAYEVENT:FALSE
SUMMARY:Stir It Up!
DESCRIPTION:On Sunday\, November 6th people will join together in the second annual county-wide charitable fundraiser\, Stir It Up.  The event will take place at Elkhorn Area High School from 11 a.m.   3:00 p.m.  The event is sponsored through a partnership with VIP Services and the Rotary Club of Elkhorn.  \n\n\n\nTop area restaurants will generously be donating samples of their signature fare for the event.  Attendees will enjoy hearty samples while listening to music from local high school choirs and jazz bands.  Participating restaurants include\, The Geneva Inn\, Greenie's Clubhouse\, Hawk's View Golf Club\, Lake Geneva Pie Co.\, Next Door Pub\, Sperino's\, and Tuscan Tavern and Grill.  \n\n \n\nEntertainment will be provided by the wonderfully talented students of Big Foot High School Jazz Ensemble\, Delavan-Darien High School String Choir\, Westosha High School Show Choir and Elkhorn High School Jazz Band.  \n\n \n\nStir It Up provides a creative way for residents of Walworth County to support a group of important causes working to improve the quality of life for people.  The event is an opportunity to make a direct and immediate impact on the community by supporting organizations that deliver programs and services to those in need. \n\n \n\nThis year\, funds raised by Stir It Up will benefit VIP Services\, Association for the Prevention of Family Violence\, Elkhorn Area Youth Center and Elkhorn Area High School Music and Mentoring Programs.  .  In 2015\, the event raised almost $34\,000!
X-ALT-DESC;FMTTYPE=text/html:<span style="font-family:times new roman\,serif\;">On Sunday\, November 6<sup>th</sup> people will join together in the second annual county-wide charitable fundraiser\, <strong>Stir It Up</strong>.&nbsp\; The event will take place at Elkhorn Area High School from 11 a.m. &ndash\; 3:00 p.m.&nbsp\; The event is sponsored through a partnership with VIP Services and the Rotary Club of Elkhorn.&nbsp\; </span><br />\n<br />\n<strong><span style="color:#333333\;"><span style="font-family:times new roman\,serif\;">Top area restaurants will generously be donating samples of their signature fare for the event.</span></span></strong>&nbsp\; <span style="font-family:times new roman\,serif\;">Attendees will enjoy hearty samples while listening to music from local high school choirs and jazz bands.&nbsp\; <span style="color:#333333\;">Participating restaurants include\, The Geneva Inn\, Greenie&rsquo\;s Clubhouse\, Hawk&#39\;s View Golf Club\, Lake Geneva Pie Co.\, Next Door Pub\, Sperino&#39\;s\, and Tuscan Tavern and Grill.&nbsp\; </span></span><br />\n&nbsp\;<br />\n<span style="color:#333333\;"><span style="font-family:times new roman\,serif\;">Entertainment will be provided by the wonderfully talented students of Big Foot High School Jazz Ensemble\, Delavan-Darien High School String Choir\, Westosha High School Show Choir and Elkhorn High School Jazz Band.&nbsp\; </span></span><br />\n&nbsp\;<br />\n<strong><span style="font-family:times new roman\,serif\;">Stir It Up</span></strong><span style="font-family:times new roman\,serif\;"> provides a creative way for residents of Walworth County </span>to support a group of important causes working to improve the quality of life for people. &nbsp\;The event is an opportunity to make a direct and immediate impact on the community by supporting organizations that deliver programs and services to those in need.&nbsp\;<br />\n&nbsp\;<br />\n<span style="font-family:times new roman\,serif\;">This year\, funds raised by <strong>Stir It Up</strong> will benefit VIP Services\, Association for the Prevention of Family Violence\, Elkhorn Area Youth Center and Elkhorn Area High School Music and Mentoring Programs.&nbsp\; .&nbsp\; In 2015\, the event raised almost $34\,000!&nbsp\; </span>
LOCATION:Elkhorn High School Gymnasium
UID:e.2059.4533
SEQUENCE:3
DTSTAMP:20260423T153100Z
URL:https://business.elkhornchamber.com/events/details/stir-it-up-4533
END:VEVENT

END:VCALENDAR
