BEGIN:VCALENDAR
VERSION:2.0
PRODID:-//ChamberMaster//Event Calendar 2.0//EN
METHOD:PUBLISH
X-PUBLISHED-TTL:P3D
REFRESH-INTERVAL:P3D
CALSCALE:GREGORIAN
BEGIN:VEVENT
DTSTART:20160720T210000Z
DTEND:20160721T000000Z
X-MICROSOFT-CDO-ALLDAYEVENT:FALSE
SUMMARY:Steak Cookout
DESCRIPTION:Come enjoy a delicious meal and support the Walworth County Jr. Beef members.\n \n\nWhat's it going to be...steak or burger!?\nWe will find out\n\nWednesday\, July 20\, 2016\n\nat the fairground's Activity Center from 4-7! You also get a dessert or your choice made just for you by the Jr Beef families! There will also be a bake sale with yummy pies\, cakes\, cookies and so much more!\n\nFunds that are raised support the junior beef project. In the past years we had special pens made for the champions\, created new signs for the barn\, replace the scale\, presented merit awards and scholarships\, and several other projects.\n\n\n\nLast year was a huge success and we hope to see everyone there again! Thank you for supporting your "Friends of the Walworth County Jr Beef Project"!\n \n\nTickets are available at the door. For more information contact Doc Sterken\, Walworth County\, Junior Beef Superintendent at 262-949-5890.
X-ALT-DESC;FMTTYPE=text/html:Come enjoy a delicious&nbsp\;meal and support the Walworth County Jr. Beef members.\n<div>&nbsp\;</div>\n\n<div>What&#39\;s it going to&nbsp\;be...steak or burger!?</div>\nWe will find out<br />\n<strong><span style="font-size: 14pt\;">Wednesday\, July 20\, 2016</span></strong><br />\nat the fairground&#39\;s Activity Center from&nbsp\;4-7! You also get a dessert or your choice made just for you by the Jr Beef&nbsp\;families! There will also be a bake sale with yummy pies\, cakes\, cookies and so&nbsp\;much more!<br />\nFunds that are raised&nbsp\;support the junior beef project. In the past years we had special pens made for&nbsp\;the champions\, created new signs for the barn\, replace the scale\, presented&nbsp\;merit awards and scholarships\, and several other projects.<br />\n<br />\nLast year was a huge success and we hope to see everyone there again! Thank you&nbsp\;for supporting your &quot\;Friends of the Walworth County Jr Beef Project&quot\;!\n<div>&nbsp\;</div>\n\n<div>Tickets are available at&nbsp\;the door. For more information contact Doc Sterken\, Walworth County\, Junior&nbsp\;Beef Superintendent at 262-949-5890.</div>\n
LOCATION:Walworth County Fairgrounds 411 E. Court St Elkhorn\,WI
UID:e.2059.2085
SEQUENCE:3
DTSTAMP:20260423T220119Z
URL:https://business.elkhornchamber.com/events/details/steak-cookout-07-20-2016-2085
END:VEVENT

END:VCALENDAR
