BEGIN:VCALENDAR
VERSION:2.0
PRODID:-//ChamberMaster//Event Calendar 2.0//EN
METHOD:PUBLISH
X-PUBLISHED-TTL:P3D
REFRESH-INTERVAL:P3D
CALSCALE:GREGORIAN
BEGIN:VEVENT
DTSTART:20180501T150000Z
DTEND:20180501T163000Z
X-MICROSOFT-CDO-ALLDAYEVENT:FALSE
SUMMARY:Stanley the Hamster Party
DESCRIPTION:Stanley the Hamster adventures\, activities\, crafts\, and more!
X-ALT-DESC;FMTTYPE=text/html:<span style="background-color:transparent\; color:rgb(0\, 0\, 0)\; font-family:arial\; font-size:11pt">Stanley the Hamster adventures\, activities\, crafts\, and more!</span>
LOCATION:Memorial Matheson Library
UID:e.2059.8928
SEQUENCE:3
DTSTAMP:20260422T085042Z
URL:https://business.elkhornchamber.com/events/details/stanley-the-hamster-party-8928
END:VEVENT

END:VCALENDAR
