BEGIN:VCALENDAR
VERSION:2.0
PRODID:-//ChamberMaster//Event Calendar 2.0//EN
METHOD:PUBLISH
X-PUBLISHED-TTL:P3D
REFRESH-INTERVAL:P3D
CALSCALE:GREGORIAN
BEGIN:VEVENT
DTSTART:20150718T210000Z
DTEND:20150719T030000Z
X-MICROSOFT-CDO-ALLDAYEVENT:FALSE
SUMMARY:St. Patrick's Parish Summer Celebration
DESCRIPTION:We start the day with an Outdoor Mass at 4PM followed by great food - family fun - music by Ear Candy - games for all - raffles and auctions.  Everyone is welcomed!
X-ALT-DESC;FMTTYPE=text/html:We start the day with an Outdoor Mass at 4PM followed by great food - family fun - music by Ear Candy - games for all - raffles and auctions.&nbsp\; Everyone is welcomed!&nbsp\;
LOCATION:St. Patrick Parish School grounds - 534 Sunset Drive
UID:e.2059.1621
SEQUENCE:3
DTSTAMP:20260424T180105Z
URL:https://business.elkhornchamber.com/events/details/st-patrick-s-parish-summer-celebration-07-18-2015-1621
END:VEVENT

END:VCALENDAR
