BEGIN:VCALENDAR
VERSION:2.0
PRODID:-//ChamberMaster//Event Calendar 2.0//EN
METHOD:PUBLISH
X-PUBLISHED-TTL:P3D
REFRESH-INTERVAL:P3D
CALSCALE:GREGORIAN
BEGIN:VEVENT
DTSTART:20160317T170000Z
DTEND:20160317T230000Z
X-MICROSOFT-CDO-ALLDAYEVENT:FALSE
SUMMARY:St. Patrick's Day & NCAA March Madness with 102.9 The Hog @ The Grist Mill
DESCRIPTION:This St. Patrick's Day THE HOG is coming to East Troy to broadcast LIVE from the Grist Mill! The Hog will be broadcasting from noon to 6pm featuring Mindy and Joe & Borna. Everyone is Irish as we keep the fun going all day with raffles for bar tabs\, promotional items and free beer for a year. This year the NCAA tournament lines up with St. Patrick's Day\, and you're invited to come watch the games in the banquet space at The Grist Mill.\n\nThe 102.9 jocks will be onsite all day giving away prizes and interviewing listeners. Don't miss out on your chance to be a part of the fun!
X-ALT-DESC;FMTTYPE=text/html:This St. Patrick&#39\;s Day THE HOG is coming to East Troy to broadcast LIVE from the Grist Mill! The Hog will be broadcasting from noon to 6pm featuring Mindy and Joe &amp\; Borna. Everyone is Irish as we keep the fun going all day with raffles for bar tabs\, promotional items and free beer for a year. This year the NCAA tournament lines up with St. Patrick&#39\;s Day\, and you&#39\;re invited to come watch the games in the banquet space at The Grist Mill.<br />\nThe 102.9 jocks will be onsite all day giving away prizes and interviewing listeners. Don&#39\;t miss out on your chance to be a part of the fun!
LOCATION:The Grist Mill 2645 Main St East Troy\, WI
UID:e.2059.2075
SEQUENCE:3
DTSTAMP:20260424T045535Z
URL:https://business.elkhornchamber.com/events/details/st-patrick-s-day-ncaa-march-madness-with-102-9-the-hog-the-grist-mill-03-17-2016-2075
END:VEVENT

END:VCALENDAR
