BEGIN:VCALENDAR
VERSION:2.0
PRODID:-//ChamberMaster//Event Calendar 2.0//EN
METHOD:PUBLISH
X-PUBLISHED-TTL:P3D
REFRESH-INTERVAL:P3D
CALSCALE:GREGORIAN
BEGIN:VEVENT
DTSTART:20150314T233000Z
DTEND:20150315T020000Z
X-MICROSOFT-CDO-ALLDAYEVENT:FALSE
SUMMARY:St. Patrick's Day Celebration
DESCRIPTION:Join St. Patrick's Parish for a traditional St. Patrick's Day corned beef and cabbage dinner along with entertainment in the new lower level of the church. Enjoy a delicious dinner that includes corned beef\, cabbage\, potatoes\, bread\, drinks and dessert. There will be hot dogs and chips for the kids. Tickets are available after mass and in the church office. Adult beverages will be available for an extra cost. There will also be Irish dancers after the meal as well as dancers from Toe to Toe Ballet.
X-ALT-DESC;FMTTYPE=text/html:Join St. Patrick&#39\;s Parish for a traditional St. Patrick&#39\;s Day corned beef and cabbage dinner along with entertainment in the new lower level of the church. Enjoy a delicious dinner that includes corned beef\, cabbage\, potatoes\, bread\, drinks and dessert. There will be hot dogs and chips for the kids. Tickets are available after mass and in the church office. Adult beverages will be available for an extra cost. There will also be Irish dancers after the meal as well as dancers from Toe to Toe Ballet.
LOCATION:St. Patrick Parish (lower level) 107 W. Walworth St.\, Elkhorn
UID:e.2059.1138
SEQUENCE:3
DTSTAMP:20260425T003930Z
URL:https://business.elkhornchamber.com/events/details/st-patrick-s-day-celebration-03-14-2015-1138
END:VEVENT

END:VCALENDAR
