BEGIN:VCALENDAR
VERSION:2.0
PRODID:-//ChamberMaster//Event Calendar 2.0//EN
METHOD:PUBLISH
X-PUBLISHED-TTL:P3D
REFRESH-INTERVAL:P3D
CALSCALE:GREGORIAN
BEGIN:VEVENT
DTSTART:20180425T160000Z
DTEND:20180425T180000Z
X-MICROSOFT-CDO-ALLDAYEVENT:FALSE
SUMMARY:St. Patrick Parish Ladies Guild Spring Salad Luncheon
DESCRIPTION:St. Patrick Parish\n\nLadies Guild Spring Salad Luncheon\n\nTickets will be sold at the door! Please join and help support this great event!
X-ALT-DESC;FMTTYPE=text/html:St. Patrick Parish<br />\nLadies Guild Spring Salad Luncheon<br />\nTickets will be sold at the door! Please join and help support this great event!
LOCATION:St. Patrick's Church St. Anthony Hall-lower level 107 W. Walworth Street\, Elkhorn\, WI 53121
UID:e.2059.8777
SEQUENCE:3
DTSTAMP:20260422T102759Z
URL:https://business.elkhornchamber.com/events/details/st-patrick-parish-ladies-guild-spring-salad-luncheon-8777
END:VEVENT

END:VCALENDAR
