BEGIN:VCALENDAR
VERSION:2.0
PRODID:-//ChamberMaster//Event Calendar 2.0//EN
METHOD:PUBLISH
X-PUBLISHED-TTL:P3D
REFRESH-INTERVAL:P3D
CALSCALE:GREGORIAN
BEGIN:VEVENT
DTSTART:20150718T150000Z
DTEND:20150718T170000Z
X-MICROSOFT-CDO-ALLDAYEVENT:FALSE
SUMMARY:St. Patrick 5K Run in the Sun - 1 Mile Fun Walk
DESCRIPTION:2nd Annual 5K Run - 1 Mile Walk\n\nPrizes! Raffles! Goody bags for all participants including 2 drink tickets for the Parish Celebration.\n\nRegistration forms and more information available on our website or at the parish office.
X-ALT-DESC;FMTTYPE=text/html:2nd Annual 5K Run - 1 Mile Walk<br />\nPrizes! Raffles! Goody bags for all participants including 2 drink tickets for the Parish Celebration.<br />\nRegistration forms and more information available on our website or at the parish office.
LOCATION:St. Patrick Parish School - 534 Sunset Drive
UID:e.2059.1608
SEQUENCE:3
DTSTAMP:20260424T180640Z
URL:https://business.elkhornchamber.com/events/details/st-patrick-5k-run-in-the-sun-1-mile-fun-walk-07-18-2015-1608
END:VEVENT

END:VCALENDAR
