BEGIN:VCALENDAR
VERSION:2.0
PRODID:-//ChamberMaster//Event Calendar 2.0//EN
METHOD:PUBLISH
X-PUBLISHED-TTL:P3D
REFRESH-INTERVAL:P3D
CALSCALE:GREGORIAN
BEGIN:VEVENT
DTSTART:20190504T130000Z
DTEND:20190504T220000Z
X-MICROSOFT-CDO-ALLDAYEVENT:FALSE
SUMMARY:Spring Showdown Horse Show
DESCRIPTION:Spring Showdown Horse Show
X-ALT-DESC;FMTTYPE=text/html:Spring Showdown Horse Show
LOCATION:Walworth County Fairgrounds Horse Arena 411 East Court Street Elkhorn\, WI 53121
UID:e.2059.10598
SEQUENCE:3
DTSTAMP:20260421T120250Z
URL:https://business.elkhornchamber.com/events/details/spring-showdown-horse-show-10598
END:VEVENT

END:VCALENDAR
