BEGIN:VCALENDAR
VERSION:2.0
PRODID:-//ChamberMaster//Event Calendar 2.0//EN
METHOD:PUBLISH
X-PUBLISHED-TTL:P3D
REFRESH-INTERVAL:P3D
CALSCALE:GREGORIAN
BEGIN:VEVENT
DTSTART:20150407T120000Z
DTEND:20150408T010000Z
X-MICROSOFT-CDO-ALLDAYEVENT:FALSE
SUMMARY:Spring Election
DESCRIPTION:The Spring Election is Tuesday\, April 7th\n\nVoting for all districts will take place at The Recreation Building located at 200 Devendorf Street.\n\n\n\nPolls open at 7 am and close at 8pm\n\nFor information on your District go to http://myvote.wi.gov/\n\nCall 1-866-vote-wi or contact City Clerk Cairie Virrueta @ 262-723-2219
X-ALT-DESC;FMTTYPE=text/html:The Spring Election is Tuesday\, April 7th<br />\nVoting for all districts will take place at The Recreation Building located at 200 Devendorf Street.<br />\n<br />\nPolls open at 7 am and close at 8pm<br />\nFor information on your District go to http://myvote.wi.gov/<br />\nCall 1-866-vote-wi or contact City Clerk Cairie Virrueta @ 262-723-2219<br />\n&nbsp\;
LOCATION:200 Devendorf St.
UID:e.2059.1145
SEQUENCE:3
DTSTAMP:20260424T224337Z
URL:https://business.elkhornchamber.com/events/details/spring-election-04-07-2015-1145
END:VEVENT

END:VCALENDAR
