BEGIN:VCALENDAR
VERSION:2.0
PRODID:-//ChamberMaster//Event Calendar 2.0//EN
METHOD:PUBLISH
X-PUBLISHED-TTL:P3D
REFRESH-INTERVAL:P3D
CALSCALE:GREGORIAN
BEGIN:VEVENT
DTSTART:20180428T140000Z
DTEND:20180428T200000Z
X-MICROSOFT-CDO-ALLDAYEVENT:FALSE
SUMMARY:Spring Craft Show
DESCRIPTION:Sugar Creek Lutheran Church Spring Craft Show\n\nGifts for all Occasions:\n\nBaby Showers\n\nGraduation\n\nWeddings\n\nMother's Day\n\nFather's Day\n\nBirthdays\n\nMany decorating ideas for special occasions!\n\nBrat Lunch available for purchase. \n\n\n\nCrafters/Vendors needed for Spring Craft\n\n$25 for a 8x8 area and one craft item to be placed in Silent Auction
X-ALT-DESC;FMTTYPE=text/html:Sugar Creek Lutheran Church Spring Craft Show<br />\nGifts for all Occasions:<br />\nBaby Showers<br />\nGraduation<br />\nWeddings<br />\nMother&#39\;s Day<br />\nFather&#39\;s Day<br />\nBirthdays<br />\nMany decorating ideas for special occasions!<br />\nBrat Lunch available for purchase.&nbsp\;<br />\n<br />\nCrafters/Vendors needed for Spring Craft<br />\n$25 for a 8x8 area and one craft item to be placed in Silent Auction<br />\n<br />\n&nbsp\;
LOCATION:Sugar Creek Lutheran Church\, Elkhorn\, WI
UID:e.2059.7522
SEQUENCE:3
DTSTAMP:20260422T100950Z
URL:https://business.elkhornchamber.com/events/details/spring-craft-show-7522
END:VEVENT

END:VCALENDAR
