BEGIN:VCALENDAR
VERSION:2.0
PRODID:-//ChamberMaster//Event Calendar 2.0//EN
METHOD:PUBLISH
X-PUBLISHED-TTL:P3D
REFRESH-INTERVAL:P3D
CALSCALE:GREGORIAN
BEGIN:VEVENT
DTSTART:20190127T220000Z
DTEND:20190127T230000Z
X-MICROSOFT-CDO-ALLDAYEVENT:FALSE
SUMMARY:Sports of Sorts
DESCRIPTION:Calling all sports fans! This is your opportunity to learn about a variety of sports such as basketball\,volleyball\, kickball\, and pickleball in addition to meeting some great friends who share your interest in sports.Be sure to wear athletic clothes and shoes and bring a water bottle for this program. Please register by December 21st or before the spots fill up since we only have 12 places available this season.
X-ALT-DESC;FMTTYPE=text/html:Calling all sports fans! This is your opportunity to learn about a variety of sports such as basketball\,volleyball\, kickball\, and pickleball in addition to meeting some great friends who share your interest in sports.Be sure to wear athletic clothes and shoes and bring a water bottle for this program. Please register by December 21st or before the spots fill up since we only have 12 places available this season.
LOCATION:Jackson Elementary School (13 N Jackson street\, Elkhorn\,WI 53121)
UID:e.2059.10150
SEQUENCE:3
DTSTAMP:20260421T191003Z
URL:https://business.elkhornchamber.com/events/details/sports-of-sorts-01-27-2019-10150
END:VEVENT

END:VCALENDAR
