BEGIN:VCALENDAR
VERSION:2.0
PRODID:-//ChamberMaster//Event Calendar 2.0//EN
METHOD:PUBLISH
X-PUBLISHED-TTL:P3D
REFRESH-INTERVAL:P3D
CALSCALE:GREGORIAN
BEGIN:VEVENT
DTSTART:20151114T170000Z
DTEND:20151114T200000Z
X-MICROSOFT-CDO-ALLDAYEVENT:FALSE
SUMMARY:Spaghetti Luncheon Benefiting the Homeless
DESCRIPTION:A Spaghetti Luncheon will be held as a Thrivent Financial Supported Benefit for Walworth County Emergency Homeless Shelter. The local Thrivent representatives will be Scott Herrmann\, Bill Duesterbeck\, Jim Pfeil and Joshua Duesterbeck. It is for a wonderful cause\, tickets can be purchased at the door or in advance\, plates for adults and children portions. Can't attend? Donations can be sent to WCEHS\, P.O Box 226\, Delavan WI. Carry outs available~ Raffle Items & Give Aways~
X-ALT-DESC;FMTTYPE=text/html:A Spaghetti Luncheon will be held as a Thrivent Financial Supported Benefit for Walworth County Emergency Homeless Shelter. The local Thrivent representatives will be Scott Herrmann\, Bill Duesterbeck\, Jim Pfeil and Joshua Duesterbeck. It is for a wonderful cause\, tickets can be purchased at the door or in advance\, plates for adults and children portions. Can&#39\;t attend? Donations can be sent to WCEHS\, P.O Box 226\, Delavan WI. Carry outs available~ Raffle Items &amp\; Give Aways~
LOCATION:Calvary Community Church N2620 Harris Rd Williams Bay\, WI
UID:e.2059.1802
SEQUENCE:3
DTSTAMP:20260424T112657Z
URL:https://business.elkhornchamber.com/events/details/spaghetti-luncheon-benefiting-the-homeless-11-14-2015-1802
END:VEVENT

END:VCALENDAR
