BEGIN:VCALENDAR
VERSION:2.0
PRODID:-//ChamberMaster//Event Calendar 2.0//EN
METHOD:PUBLISH
X-PUBLISHED-TTL:P3D
REFRESH-INTERVAL:P3D
CALSCALE:GREGORIAN
BEGIN:VEVENT
DTSTART:20190630T170000Z
DTEND:20190630T190000Z
X-MICROSOFT-CDO-ALLDAYEVENT:FALSE
SUMMARY:Southern Wakes United Ski Show
DESCRIPTION:Ski Show at Cravath Lake Downtown Whitewater
X-ALT-DESC;FMTTYPE=text/html:Ski Show at Cravath Lake Downtown Whitewater
LOCATION:Cravath Lake\, Whitewater
UID:e.2059.10977
SEQUENCE:3
DTSTAMP:20260421T044754Z
URL:https://business.elkhornchamber.com/events/details/southern-wakes-united-ski-show-10977
END:VEVENT

END:VCALENDAR
