BEGIN:VCALENDAR
VERSION:2.0
PRODID:-//ChamberMaster//Event Calendar 2.0//EN
METHOD:PUBLISH
X-PUBLISHED-TTL:P3D
REFRESH-INTERVAL:P3D
CALSCALE:GREGORIAN
BEGIN:VEVENT
DTSTART:20160604T003000Z
DTEND:20160604T003000Z
X-MICROSOFT-CDO-ALLDAYEVENT:FALSE
SUMMARY:Songs for Sally- Benefit Concert
DESCRIPTION:Please join us for a musical evening as LUDY and his family perform a concert in loving memory of Sally J. Puleo. 100% of proceeds for this event wil go to venefit the Association for the Prevention of Family Violence (APFV) of Walworth County.\n\n"A tribute to one fo the finest people to ever grace the planet."- John Ludy\n\nDoors open at 7:30pm with a 8:00 Start time.\n\nThis year we will offer a buffet dinner preceding the concert for an additional charge of $25.00. Must be ordered in advance with ticket for total cost of $40.00 per person. Cash Bar available.
X-ALT-DESC;FMTTYPE=text/html:Please join us for a musical evening as LUDY and his family perform a concert in loving memory of Sally J. Puleo. 100% of proceeds for this event wil go to venefit the Association for the Prevention of Family Violence (APFV) of Walworth County.<br />\n&quot\;A tribute to one fo the finest people to ever grace the planet.&quot\;- John Ludy<br />\nDoors open at 7:30pm with a 8:00 Start time.<br />\nThis year we will offer a buffet dinner preceding the concert for an additional charge of $25.00. Must be ordered in advance with ticket for total cost of $40.00 per person. Cash Bar available.
LOCATION:Monte Carlo Room 720 N. Wisconsin St Elkhorn\, Wi 53121
UID:e.2059.3468
SEQUENCE:3
DTSTAMP:20260423T235108Z
URL:https://business.elkhornchamber.com/events/details/songs-for-sally-benefit-concert-06-03-2016-3468
END:VEVENT

END:VCALENDAR
