BEGIN:VCALENDAR
VERSION:2.0
PRODID:-//ChamberMaster//Event Calendar 2.0//EN
METHOD:PUBLISH
X-PUBLISHED-TTL:P3D
REFRESH-INTERVAL:P3D
CALSCALE:GREGORIAN
BEGIN:VEVENT
DTSTART;VALUE=DATE:20150915
DTEND;VALUE=DATE:20151110
TRANSP:TRANSPARENT
X-MICROSOFT-CDO-ALLDAYEVENT:TRUE
SUMMARY:Society's Assets Youth Art Contest
DESCRIPTION:Society's Assets is sponsoring its 17th annual youth art contest. Students in grades kindergarten through high school in the agency's service area of Racine\, Kenosha\, Walworth\, Rock\, and Jefferson counties are invited to participate. Parents\, students\, or youth leaders can request an entry blank by calling 723-8181 or by visiting www. societysassets.org The contest theme is "Everyone Can." Prizes are awarded to first ($100)\, second ($50)\, and third ($25) place entrants in each grade category. Contest entries must be received at a Society's Assets office by 5:00 p.m. on Monday\, November 9\, 2015.
X-ALT-DESC;FMTTYPE=text/html:Society&#39\;s Assets is sponsoring its 17th annual youth art contest. Students in grades kindergarten through high school in the agency&#39\;s service area of Racine\, Kenosha\, Walworth\, Rock\, and Jefferson counties are invited to participate. Parents\, students\, or youth leaders can request an entry blank by calling 723-8181 or by visiting www. societysassets.org The contest theme is &quot\;Everyone Can.&quot\; Prizes are awarded to first ($100)\, second ($50)\, and third ($25) place entrants in each grade category. Contest entries must be received at a Society&#39\;s Assets office by 5:00 p.m. on Monday\, November 9\, 2015.
LOCATION:Society's Assets 615 E. Geneva Street Elkhorn
UID:e.2059.1712
SEQUENCE:3
DTSTAMP:20260424T112947Z
URL:https://business.elkhornchamber.com/events/details/society-s-assets-youth-art-contest-09-15-2015-1712
END:VEVENT

END:VCALENDAR
